BEGIN:VCALENDAR
VERSION:2.0
PRODID:-//Illuminata Global communication skills training, communication skills seminars, presentation skills, presentation skills training - ECPv5.16.0//NONSGML v1.0//EN
CALSCALE:GREGORIAN
METHOD:PUBLISH
X-ORIGINAL-URL:http://illuminataglobal.com
X-WR-CALDESC:Events for Illuminata Global communication skills training, communication skills seminars, presentation skills, presentation skills training
REFRESH-INTERVAL;VALUE=DURATION:PT1H
X-Robots-Tag:noindex
X-PUBLISHED-TTL:PT1H
BEGIN:VTIMEZONE
TZID:UTC
BEGIN:STANDARD
TZOFFSETFROM:+0000
TZOFFSETTO:+0000
TZNAME:UTC
DTSTART:20250101T000000
END:STANDARD
END:VTIMEZONE
BEGIN:VEVENT
DTSTART;VALUE=DATE:20250728
DTEND;VALUE=DATE:20250729
DTSTAMP:20260424T161459
CREATED:20250609T213704Z
LAST-MODIFIED:20250616T163610Z
UID:1784-1753660800-1753747199@illuminataglobal.com
SUMMARY:High Stakes Presentation Skills
DESCRIPTION:
URL:http://illuminataglobal.com/event/high-stakes-presentation-skills-9/
LOCATION:New York\, 45 Rockefeller Plaza\, 20fl\,\, NY\, 10111\, United States
CATEGORIES:Seminars
ATTACH;FMTTYPE=image/jpeg:http://illuminataglobal.com/wp-content/uploads/2022/03/general-20.jpg
END:VEVENT
END:VCALENDAR