BEGIN:VCALENDAR
VERSION:2.0
PRODID:-//Illuminata Global communication skills training, communication skills seminars, presentation skills, presentation skills training - ECPv5.16.0//NONSGML v1.0//EN
CALSCALE:GREGORIAN
METHOD:PUBLISH
X-ORIGINAL-URL:http://illuminataglobal.com
X-WR-CALDESC:Events for Illuminata Global communication skills training, communication skills seminars, presentation skills, presentation skills training
REFRESH-INTERVAL;VALUE=DURATION:PT1H
X-Robots-Tag:noindex
X-PUBLISHED-TTL:PT1H
BEGIN:VTIMEZONE
TZID:UTC
BEGIN:STANDARD
TZOFFSETFROM:+0000
TZOFFSETTO:+0000
TZNAME:UTC
DTSTART:20250101T000000
END:STANDARD
END:VTIMEZONE
BEGIN:VEVENT
DTSTART;VALUE=DATE:20251023
DTEND;VALUE=DATE:20251024
DTSTAMP:20260423T205156
CREATED:20250609T213746Z
LAST-MODIFIED:20250616T163340Z
UID:1786-1761177600-1761263999@illuminataglobal.com
SUMMARY:High Stakes Presentation Skills
DESCRIPTION:
URL:http://illuminataglobal.com/event/high-stakes-presentation-skills-10/
LOCATION:New York\, 45 Rockefeller Plaza\, 20fl\,\, NY\, 10111\, United States
CATEGORIES:Seminars
ATTACH;FMTTYPE=image/jpeg:http://illuminataglobal.com/wp-content/uploads/2022/03/general-20.jpg
END:VEVENT
BEGIN:VEVENT
DTSTART;VALUE=DATE:20251022
DTEND;VALUE=DATE:20251023
DTSTAMP:20260423T205156
CREATED:20250609T213418Z
LAST-MODIFIED:20250616T163717Z
UID:1778-1761091200-1761177599@illuminataglobal.com
SUMMARY:Presenting to Senior Leaders
DESCRIPTION:
URL:http://illuminataglobal.com/event/presenting-to-senior-leaders-12/
LOCATION:New York\, 45 Rockefeller Plaza\, 20fl\,\, NY\, 10111\, United States
CATEGORIES:Seminars
ATTACH;FMTTYPE=image/jpeg:http://illuminataglobal.com/wp-content/uploads/2022/03/general-17.jpg
END:VEVENT
BEGIN:VEVENT
DTSTART;VALUE=DATE:20250918
DTEND;VALUE=DATE:20250919
DTSTAMP:20260423T205156
CREATED:20250609T214002Z
LAST-MODIFIED:20250616T163152Z
UID:1794-1758153600-1758239999@illuminataglobal.com
SUMMARY:Storytelling
DESCRIPTION:
URL:http://illuminataglobal.com/event/storytelling-7/
LOCATION:New York\, 45 Rockefeller Plaza\, 20fl\,\, NY\, 10111\, United States
CATEGORIES:Seminars
ATTACH;FMTTYPE=image/jpeg:http://illuminataglobal.com/wp-content/uploads/2022/03/dynamic.jpg
END:VEVENT
BEGIN:VEVENT
DTSTART;VALUE=DATE:20250917
DTEND;VALUE=DATE:20250918
DTSTAMP:20260423T205156
CREATED:20250609T213329Z
LAST-MODIFIED:20250616T163742Z
UID:1776-1758067200-1758153599@illuminataglobal.com
SUMMARY:Presenting to Senior Leaders
DESCRIPTION:
URL:http://illuminataglobal.com/event/presenting-to-senior-leaders-11/
LOCATION:New York\, 45 Rockefeller Plaza\, 20fl\,\, NY\, 10111\, United States
CATEGORIES:Seminars
ATTACH;FMTTYPE=image/jpeg:http://illuminataglobal.com/wp-content/uploads/2022/03/general-17.jpg
END:VEVENT
BEGIN:VEVENT
DTSTART;VALUE=DATE:20250814
DTEND;VALUE=DATE:20250815
DTSTAMP:20260423T205156
CREATED:20250609T213938Z
LAST-MODIFIED:20250616T163231Z
UID:1792-1755129600-1755215999@illuminataglobal.com
SUMMARY:Storytelling
DESCRIPTION:
URL:http://illuminataglobal.com/event/storytelling-6/
LOCATION:New York\, 45 Rockefeller Plaza\, 20fl\,\, NY\, 10111\, United States
CATEGORIES:Seminars
ATTACH;FMTTYPE=image/jpeg:http://illuminataglobal.com/wp-content/uploads/2022/03/dynamic.jpg
END:VEVENT
BEGIN:VEVENT
DTSTART;VALUE=DATE:20250728
DTEND;VALUE=DATE:20250729
DTSTAMP:20260423T205156
CREATED:20250609T213704Z
LAST-MODIFIED:20250616T163610Z
UID:1784-1753660800-1753747199@illuminataglobal.com
SUMMARY:High Stakes Presentation Skills
DESCRIPTION:
URL:http://illuminataglobal.com/event/high-stakes-presentation-skills-9/
LOCATION:New York\, 45 Rockefeller Plaza\, 20fl\,\, NY\, 10111\, United States
CATEGORIES:Seminars
ATTACH;FMTTYPE=image/jpeg:http://illuminataglobal.com/wp-content/uploads/2022/03/general-20.jpg
END:VEVENT
BEGIN:VEVENT
DTSTART;VALUE=DATE:20250716
DTEND;VALUE=DATE:20250717
DTSTAMP:20260423T205156
CREATED:20250609T212819Z
LAST-MODIFIED:20250616T163759Z
UID:1774-1752624000-1752710399@illuminataglobal.com
SUMMARY:Presenting to Senior Leaders
DESCRIPTION:
URL:http://illuminataglobal.com/event/presenting-to-senior-leaders-10/
LOCATION:New York\, 45 Rockefeller Plaza\, 20fl\,\, NY\, 10111\, United States
CATEGORIES:Seminars
ATTACH;FMTTYPE=image/jpeg:http://illuminataglobal.com/wp-content/uploads/2022/03/general-17.jpg
END:VEVENT
BEGIN:VEVENT
DTSTART;VALUE=DATE:20250618
DTEND;VALUE=DATE:20250619
DTSTAMP:20260423T205156
CREATED:20250609T213906Z
LAST-MODIFIED:20250616T163124Z
UID:1790-1750204800-1750291199@illuminataglobal.com
SUMMARY:Storytelling
DESCRIPTION:
URL:http://illuminataglobal.com/event/storytelling-5/
LOCATION:New York\, 45 Rockefeller Plaza\, 20fl\,\, NY\, 10111\, United States
CATEGORIES:Seminars
ATTACH;FMTTYPE=image/jpeg:http://illuminataglobal.com/wp-content/uploads/2022/03/dynamic.jpg
END:VEVENT
BEGIN:VEVENT
DTSTART;VALUE=DATE:20250612
DTEND;VALUE=DATE:20250613
DTSTAMP:20260423T205156
CREATED:20250609T213624Z
LAST-MODIFIED:20250616T163623Z
UID:1782-1749686400-1749772799@illuminataglobal.com
SUMMARY:High Stakes Presentation Skills
DESCRIPTION:
URL:http://illuminataglobal.com/event/high-stakes-presentation-skills-8/
LOCATION:New York\, 45 Rockefeller Plaza\, 20fl\,\, NY\, 10111\, United States
CATEGORIES:Seminars
ATTACH;FMTTYPE=image/jpeg:http://illuminataglobal.com/wp-content/uploads/2022/03/general-20.jpg
END:VEVENT
BEGIN:VEVENT
DTSTART;VALUE=DATE:20250514
DTEND;VALUE=DATE:20250515
DTSTAMP:20260423T205156
CREATED:20250609T213844Z
LAST-MODIFIED:20250616T163255Z
UID:1788-1747180800-1747267199@illuminataglobal.com
SUMMARY:Storytelling
DESCRIPTION:
URL:http://illuminataglobal.com/event/storytelling-4/
LOCATION:New York\, 45 Rockefeller Plaza\, 20fl\,\, NY\, 10111\, United States
CATEGORIES:Seminars
ATTACH;FMTTYPE=image/jpeg:http://illuminataglobal.com/wp-content/uploads/2022/03/dynamic.jpg
END:VEVENT
BEGIN:VEVENT
DTSTART;VALUE=DATE:20250514
DTEND;VALUE=DATE:20250515
DTSTAMP:20260423T205156
CREATED:20250606T230248Z
LAST-MODIFIED:20250616T163817Z
UID:1764-1747180800-1747267199@illuminataglobal.com
SUMMARY:Presenting to Senior Leaders
DESCRIPTION:
URL:http://illuminataglobal.com/event/presenting-to-senior-leaders-9/
LOCATION:New York\, 45 Rockefeller Plaza\, 20fl\,\, NY\, 10111\, United States
CATEGORIES:Seminars
ATTACH;FMTTYPE=image/jpeg:http://illuminataglobal.com/wp-content/uploads/2022/03/general-17.jpg
END:VEVENT
END:VCALENDAR